Workbook

Sheet Mapping
A1: {="Category"&CHAR(10)&"("&SUMPRODUCT((A$5:A$276<>"")/COUNTIF(A$5:A$276,A$5:A$276&""))&")"} -> Category (4) | B1: {="Capability"&CHAR(10)&"("&SUMPRODUCT((B$5:B$276<>"")/COUNTIF(B$5:B$276,B$5:B$276&""))&")"} -> Capability (12) | C1: {="Domain"&CHAR(10)&"("&SUMPRODUCT((C$5:C$276<>"")/COUNTIF(C$5:C$276,C$5:C$276&""))&")"} -> Domain (9) | D1: {="Practice Area"&CHAR(10)&"("&SUMPRODUCT((D$5:D$276<>"")/COUNTIF(D$5:D$276,D$5:D$276&""))&")"} -> Practice Area (31) | E1: {="Practice Area Acronym"&CHAR(10)&"("&SUMPRODUCT((E$5:E$276<>"")/COUNTIF(E$5:E$276,E$5:E$276&""))&")"} -> Practice Area Acronym (31) | F1: ="Practice Area Description"&CHAR(10)&"("&COUNTA(F$5:F$276)&")" -> Practice Area Description (31) | G1: {="Level"&CHAR(10)&"("&SUMPRODUCT((G$5:G$276<>"")/COUNTIF(G$5:G$276,G$5:G$276&""))&")"} -> Level (5) | H1: {="Practice"&CHAR(10)&"("&SUMPRODUCT((H$5:H$276<>"")/COUNTIF(H$5:H$276,H$5:H$276&""))&")"} -> Practice (272) | I1: {="Practice Description"&CHAR(10)&"("&SUMPRODUCT((I$5:I$276<>"")/COUNTIF(I$5:I$276,I$5:I$276&""))&")"} -> Practice Description (272) | J1: {="Practice Activity"&CHAR(10)&"("& SUM(LEN(J$5:J$276)-LEN(SUBSTITUTE(J$5:J$276,"•",""))) &")"} -> Practice Activity (1080) | K1: {="Practice Work Product"&CHAR(10)&"("& SUM(LEN(K$5:K$276)-LEN(SUBSTITUTE(K$5:K$276,"•",""))) &")"} -> Practice Work Product (719) | L1: {="SAFe Activity"&CHAR(10)&"("& SUM(LEN(L$5:L$276)-LEN(SUBSTITUTE(L$5:L$276,"•",""))) &")"} -> SAFe Activity (1099) | M1: {="SAFe Work Product"&CHAR(10)&"("& SUM(LEN(M$5:M$276)-LEN(SUBSTITUTE(M$5:M$276,"•",""))) &")"} -> SAFe Work Product (1092) | N1: {="SAFe Technical Note"&CHAR(10)&"("& SUM(LEN(N$5:N$276)-LEN(SUBSTITUTE(N$5:N$276,"•",""))) &")"} -> SAFe Technical Note (76) | O1: Low | Q1: Medium | T1: High | V1: Practice Score | W1: Practice Area Score
O2: • Below average • No improvement • Unsatisfactory • Ad Hoc • Inconsistent • Undocumented • Manual | Q2: • Average performance • Some Improvements • Acceptable results • Groundrules • Project level • Mostly recorded • Semi-automated | T2: • Above average • Always Improving • High impact • BU Policies • Portfolio Level • Well-Scripted • Automated flows
O3: 1 | P3: 2 | Q3: 3 | R3: 4 | S3: 5 | T3: 6 | U3: 7
A4: {="Category ("&SUMPRODUCT((A$5:A$276<>"")/COUNTIF(A$5:A$276,A$5:A$276&""))&")"} -> Category (4) | B4: {="Capability ("&SUMPRODUCT((B$5:B$276<>"")/COUNTIF(B$5:B$276,B$5:B$276&""))&")"} -> Capability (12) | C4: {="Domain ("&SUMPRODUCT((C$5:C$276<>"")/COUNTIF(C$5:C$276,C$5:C$276&""))&")"} -> Domain (9) | D4: {="Practice Area ("&SUMPRODUCT((D$5:D$276<>"")/COUNTIF(D$5:D$276,D$5:D$276&""))&")"} -> Practice Area (31) | E4: {="PA Acronym ("&SUMPRODUCT((E$5:E$276<>"")/COUNTIF(E$5:E$276,E$5:E$276&""))&")"} -> PA Acronym (31) | F4: ="PA Description ("&COUNTA(F$5:F$276)&")" -> PA Description (31) | G4: {="Level ("&SUMPRODUCT((G$5:G$276<>"")/COUNTIF(G$5:G$276,G$5:G$276&""))&")"} -> Level (5) | H4: {="Practice ("&SUMPRODUCT((H$5:H$276<>"")/COUNTIF(H$5:H$276,H$5:H$276&""))&")"} -> Practice (272) | I4: {="Practice Desc ("&SUMPRODUCT((I$5:I$276<>"")/COUNTIF(I$5:I$276,I$5:I$276&""))&")"} -> Practice Desc (272) | J4: {="Practice Activity ("& SUM(LEN(J$5:J$276)-LEN(SUBSTITUTE(J$5:J$276,"•",""))) &")"} -> Practice Activity (1080) | K4: {="Practice Work Product ("& SUM(LEN(K$5:K$276)-LEN(SUBSTITUTE(K$5:K$276,"•",""))) &")"} -> Practice Work Product (719) | L4: {="SAFe Activity ("& SUM(LEN(L$5:L$276)-LEN(SUBSTITUTE(L$5:L$276,"•",""))) &")"} -> SAFe Activity (1099) | M4: {="SAFe Work Product ("& SUM(LEN(M$5:M$276)-LEN(SUBSTITUTE(M$5:M$276,"•",""))) &")"} -> SAFe Work Product (1092) | N4: {="SAFe Technical Note ("& SUM(LEN(N$5:N$276)-LEN(SUBSTITUTE(N$5:N$276,"•",""))) &")"} -> SAFe Technical Note (76) | O4: Strongly Disagree | P4: Disagree | Q4: Somewhat Disagree | R4: Neutral | S4: Somewhat Agree | T4: Agree | U4: Strongly Agree
A5: Doing | B5: Delivering & Managing Services | C5: Services | D5: Service Delivery Management | E5: SDM | F5: Delivers services and manages the service delivery system. | G5: Level 1 | H5: SDM 1.1 | I5: Use the service system to deliver services. | J5: • Use a service system. • Deliver services. | K5: • Service system • Records of delivered services | L5: • Portfolio Flow Practices • Solution Flow Practices • ART Flow Practices • Team Flow Practices | M5: • Portfolio Epic • Solution Capabilities • ART Features • Team Stories | N5: • SAFe is a framework to solution new products AND services, so designing new external and internal services and service products are part and parcel to SAFe. • SAFe can also be used to plan, operate, and maintain internal and external services and service products. • SAFe is also a lean thinking framework which incorporate Kanban and Scrumban principles and practices for continuous just-in-time service delivery. • SAFe supports classes of service, service level agreements (SLAs), and new services and service products compatible with ITIL's incident management levels. | O5: x | V5: =IF(ISERROR(MATCH("x",O5:U5)),0,MATCH("x",O5:U5)) -> 1 | W5: =AVERAGE($V$5:$V$12) -> 4.25
G6: Level 2 | H6: SDM 2.1 | I6: Develop, record, keep updated, and follow service agreements. | J6: • Develop, record, and keep the structure and format of the service agreement updated. • Define, negotiate, obtain commitment to, and communicate status of the service agreement. • Provide the service agreement to affected stakeholders. • Review and revise the service agreement. | K6: • Service agreement • Records of service agreement reviews | L6: • Portfolio Backlog (ALM) Management • Solution Backlog (ALM) Management • ART Backlog (ALM) Management • Team Backlog (ALM) Management | M6: • Portfolio Epics • Solution Capabilities • ART Features • Team Stories | P6: x | V6: =IF(ISERROR(MATCH("x",O6:U6)),0,MATCH("x",O6:U6)) -> 2
H7: SDM 2.2 | I7: Receive and process service requests in accordance with service agreements. | J7: • Receive service requests and ensure each request is within the scope of the service agreement. • Record information about the service request. • Determine resources required to address the service request. • Determine the actions to satisfy the service request. • Monitor the status of service requests until personnel fulfill requests described in the service agreement. • Review service request status and confirm results with affected stakeholders. • Close the service request and record the actions taken and results. • Collect customer satisfaction information after delivery of services. | K7: • Service requests • Action proposal • Customer satisfaction data • End user receipts confirming request fulfillment • Records of affected stakeholder reviews | L7: • Portfolio Kanban Management • Solution Kanban Management • ART Kanban Management • Team Kanban Management | M7: • Portfolio Epics • Solution Capabilities • ART Features • Team Stories | Q7: x | V7: =IF(ISERROR(MATCH("x",O7:U7)),0,MATCH("x",O7:U7)) -> 3
H8: SDM 2.3 | I8: Deliver services in accordance with service agreements. | J8: • Operate service system components according to service system procedures. • Perform operations support activities. • Perform the activities needed to fulfill service requests. • Use a request management system to record service requests. | K8: • List of services provided • Performance reports and dashboards • Log of corrective actions • Request management system • Request management system records | L8: • Portfolio Flow Practices • Solution Flow Practices • ART Flow Practices • Team Flow Practices | M8: • Portfolio Backlog (ALM) Reports & Records • Solution Backlog (ALM) Reports & Records • ART Backlog (ALM) Reports & Records • Team Backlog (ALM) Reports & Records | R8: x | V8: =IF(ISERROR(MATCH("x",O8:U8)),0,MATCH("x",O8:U8)) -> 4
H9: SDM 2.4 | I9: Analyze existing service agreements and service data to prepare for updated or new agreements. | J9: • Collect customer and end user needs and service provider concerns. • Analyze service requests. • Review and analyze existing service agreements, request management data, supplier agreements, and related service data. | K9: • Service data analysis results • Information for updating or developing new service agreements or request management approaches | L9: • Portfolio Planning • Solution Planning • ART Planning • Team Planning | M9: • Portfolio Roadmaps & Plans • Solution Roadmaps & Plans • ART Roadmaps & Plans • Team Roadmaps & Plans | S9: x | V9: =IF(ISERROR(MATCH("x",O9:U9)),0,MATCH("x",O9:U9)) -> 5
H10: SDM 2.5 | I10: Develop, record, keep updated, and follow the approach for operating and changing the service system. | J10: • Define the approach for service system operation and each change. • Determine the cost, resources, and schedule required for operation of the service system and for a new change. • Identify affected stakeholders and review operations and change activities. • Develop a plan for service system operations and for changes to operations. • Update the service continuity plan, if a change affects an essential function. | K10: • Service system operations and change approach • Plans for service system operations and changes • Records of reviews with affected stakeholders | L10: • Portfolio Backlog (ALM) Management • Solution Backlog (ALM) Management • ART Backlog (ALM) Management • Team Backlog (ALM) Management | M10: • Portfolio Backlog (ALM) Reports & Records • Solution Backlog (ALM) Reports & Records • ART Backlog (ALM) Reports & Records • Team Backlog (ALM) Reports & Records | T10: x | V10: =IF(ISERROR(MATCH("x",O10:U10)),0,MATCH("x",O10:U10)) -> 6
H11: SDM 2.6 | I11: Confirm the readiness of the service system to support the delivery of services. | J11: • Confirm that service system components and tools are operational. • Evaluate the results of confirming service system component readiness and determine how to address deficiencies or issues. • Review the service level requirements in the service agreements and set thresholds in service system monitoring tools. • Develop, review, or refine service delivery procedures. • Ensure that the necessary resources are available for performing service delivery activities and tasks. • Prepare and update plans and schedules for delivering services as requested. • Review the service system approach, plan, and procedures as appropriate with affected stakeholders. • Provide orientation or training to incoming service delivery and support personnel. | K11: • Readiness reports • Logs of consumable acquisition and use • Plans and schedules for delivering services • Service delivery logs and receipts • Service system orientation or training records • Stakeholder review records • Results from demonstrated service system operation | L11: • Portfolio Planning • Solution Planning • ART Planning • Team Planning | M11: • Portfolio Roadmaps & Plans • Solution Roadmaps & Plans • ART Roadmaps & Plans • Team Roadmaps & Plans | U11: x | V11: =IF(ISERROR(MATCH("x",O11:U11)),0,MATCH("x",O11:U11)) -> 7
G12: Level 3 | H12: SDM 3.1 | I12: Develop, record, keep updated, and use organizational standard service systems and agreements. | J12: • Review and prioritize standardization and maintenance needs and requests. • Analyze effect of standardization and maintenance on service delivery. • Develop an approach or process to standardize or keep updated service agreements, service systems, or their components. • Communicate changes and notifications to affected stakeholders. • Update and retain service system documentation as appropriate. | K12: • Approach or process for standardized service agreements and service systems • Corrective or preventive maintenance change requests • Maintenance notifications • Preventive maintenance schedules • Installation records • Deployment artifacts • Records of stakeholders • Updated service system and service agreement documentation | L12: • Portfolio Backlog (ALM) Management • Solution Backlog (ALM) Management • ART Backlog (ALM) Management • Team Backlog (ALM) Management | M12: • Portfolio Backlog (ALM) Reports & Records • Solution Backlog (ALM) Reports & Records • ART Backlog (ALM) Reports & Records • Team Backlog Reports & Records | T12: x | V12: =IF(ISERROR(MATCH("x",O12:U12)),0,MATCH("x",O12:U12)) -> 6
C13: Services | D13: Strategic Service Management | E13: STSM | F13: Develops and deploys standard services that are compatible with strategic business needs and plans. | G13: Level 1 | H13: STSM 1.1 | I13: Develop a list of current services. | J13: • Identify current services. | K13: • List of current services | L13: • Portfolio Value Stream & Canvas Development • Solution Value Stream & Canvas Development • ART Value Stream & Canvas Development | M13: • Portfolio Canvases • Solution Canvases • ART Canvases | N13: • SAFe is a framework to solution new products AND services, so designing new external and internal services and service products are part and parcel to SAFe. • SAFe can also be used to plan, operate, and maintain internal and external services and service products. • SAFe is also a lean thinking framework which incorporate Kanban and Scrumban principles and practices for continuous just-in-time service delivery. • SAFe supports classes of service, service level agreements (SLAs), and new services and service products compatible with ITIL's incident management levels. | S13: x | V13: =IF(ISERROR(MATCH("x",O13:U13)),0,MATCH("x",O13:U13)) -> 5 | W13: =AVERAGE(V13:V17) -> 3
G14: Level 2 | H14: STSM 2.1 | I14: Develop, keep updated, and use descriptions of current services. | J14: • Develop, record, and keep individual service descriptions updated. • Develop, record, and keep the service catalog updated. | K14: • Individual service descriptions | L14: • Portfolio Planning • Solution Planning • ART Planning • Team Planning | M14: • Portfolio Epics • Solution Capabilities • ART Features • Team Stories | R14: x | V14: =IF(ISERROR(MATCH("x",O14:U14)),0,MATCH("x",O14:U14)) -> 4
H15: STSM 2.2 | I15: Collect, record, and analyze data about strategic needs and capabilities for service delivery. | J15: • Collect and analyze data on capabilities. • Collect and analyze data on strategic needs. • Communicate the capabilities and strategic needs to affected stakeholders. | K15: • Analysis results • Descriptions of the capabilities • Descriptions of strategic needs | L15: • Portfolio Value Stream, Canvas, and UX Model Development • Solution Value Stream & Canvas, and UX Model Development • ART Value Stream & Canvas, and UX Model Development | M15: • Portfolio Value Stream, Canvas, and UX Models • Solution Value Stream & Canvas, and UX Models • ART Value Stream & Canvas, and UX Models | Q15: x | V15: =IF(ISERROR(MATCH("x",O15:U15)),0,MATCH("x",O15:U15)) -> 3
H16: STSM 2.3 | I16: Develop, keep updated, and follow an approach for providing new or changed services derived from strategic needs and capabilities. | J16: • Develop, record, and confirm strategic business objectives. • Identify requirements for services based on strategic business needs, objectives, and capabilities. • Record descriptions of services provided or changed. • Identify changes to services offered. • Develop, keep updated, and follow plans for new or changed services. • Verify that planned services are available when needed. | K16: • Descriptions of strategic business objectives • Service descriptions • Analysis of service system needs • Plans for services • Plan verification results | L16: • Portfolio Value Stream, Canvas, and UX Model Development • Solution Value Stream & Canvas, and UX Model Development • ART Value Stream & Canvas, and UX Model Development | M16: • Portfolio Value Stream, Canvas, and UX Models • Solution Value Stream & Canvas, and UX Models • ART Value Stream & Canvas, and UX Models | P16: x | V16: =IF(ISERROR(MATCH("x",O16:U16)),0,MATCH("x",O16:U16)) -> 2
G17: Level 3 | H17: STSM 3.1 | I17: Develop, keep updated, and use the set of organizational standard service descriptions and service levels. | J17: • Develop, record, and keep updated standard service descriptions. • Specify the characteristics of each service. | K17: • Descriptions of services and their characteristics • Standard service catalog or menu | L17: • Portfolio Backlog (ALM) Management • Solution Backlog (ALM) Management • ART Backlog (ALM) Management • Team Backlog (ALM) Management | M17: • Portfolio Backlog (ALM) Reports & Records • Solution Backlog (ALM) Reports & Records • ART Backlog (ALM) Reports & Records • Team Backlog (ALM) Reports & Records | O17: x | V17: =IF(ISERROR(MATCH("x",O17:U17)),0,MATCH("x",O17:U17)) -> 1
B18: Engineering & Developing Products | C18: Development | D18: Product Integration | E18: PI | F18: Integrates and delivers the solution that addresses functionality, performance, and quality requirements. | G18: Level 1 | H18: PI 1.1 | I18: Assemble solutions and deliver to the customer. | J18: • Assemble solution. • Record all necessary information to install and use the solution. • Use applicable methods to package and deliver the solution. • Deliver the solution and related documentation; confirm receipt. | K18: • Assembled solutions and related documentation | L18: • Portfolio Flow Practices • Solution Flow Practices • ART Flow Practices • Team Flow Practices | M18: • Portfolio Backlog (ALM) Reports & Records • Solution Backlog (ALM) Reports & Records • ART Backlog (ALM) Reports & Records • Team Backlog (ALM) Reports & Records | N18: • SAFe strongly supports product integration at multiple levels: 1. Portfolio - Enterprise Architecture 2. Solution - Solution Architecture, Solution Intent 3. ART - System Architecture, Continuous Delivery Pipeline | P18: x | V18: =IF(ISERROR(MATCH("x",O18:U18)),0,MATCH("x",O18:U18)) -> 2 | W18: =AVERAGE(V18:V27) -> 4.5
G19: Level 2 | H19: PI 2.1 | I19: Develop, keep updated, and follow an integration strategy. | J19: • Identify and record product components to be integrated. • Identify how solutions and components will be verified and validated during integration. • Identify alternative integration strategies. • Select the best integration strategy. • Periodically review the product integration strategy and revise it as needed. • Record and communicate decision rationale and status. | K19: • Product integration strategy • Recorded rationale for selecting or rejecting alternative product integration strategies • Build pipeline • Selected integration strategy | L19: • Portfolio Enterprise Architecture Practices • Solution Architecture & Solution Intent Practices • ART System Architecture Practices | M19: • Portfolio Enterprise Architecture • Solution Architecture & Solution Intent • ART System Architecture | Q19: x | V19: =IF(ISERROR(MATCH("x",O19:U19)),0,MATCH("x",O19:U19)) -> 3
H20: PI 2.2 | I20: Develop, keep updated, and use the integration environment. | J20: • Develop requirements for the integration environment. • Develop verification and validation procedures and criteria for the integration environment. • Decide whether to build, buy, or reuse the integration environment. • Develop or acquire an integration environment. • Verify and validate the integration environment. • Use the integration environment. • Revise the integration environment as needed. • Communicate with affected stakeholders. | K20: • Verified and validated environment for product integration • Build, buy, or reuse analyses • Support documentation for the integration environment | L20: • Continuous Delivery Practices | M20: • Continuous Delivery & DevOps Pipeline & Reports | R20: x | V20: =IF(ISERROR(MATCH("x",O20:U20)),0,MATCH("x",O20:U20)) -> 4
H21: PI 2.3 | I21: Develop, keep updated, and follow procedures and criteria for integrating solutions and components. | J21: • Develop, use, and keep updated product integration procedures for the product components. • Develop, use, and keep updated criteria for product component integration and evaluation. • Record, keep updated, and communicate the product integration procedures and criteria. | K21: • Product integration procedures • Product integration criteria | L21: • Portfolio Enterprise Architecture Practices • Solution Architecture & Solution Intent Practices • ART System Architecture Practices • Continuous Delivery Practices | M21: • Portfolio Enterprise Architecture • Solution Architecture & Solution Intent • ART System Architecture • Continuous Delivery & DevOps Pipeline & Report | S21: x | V21: =IF(ISERROR(MATCH("x",O21:U21)),0,MATCH("x",O21:U21)) -> 5
H22: PI 2.4 | I22: Confirm, prior to integration, that each component has been properly identified and operates according to its requirements and design. | J22: • Track the integration readiness status of the components. • Ensure components are delivered to the product integration environment as described in the product integration strategy and procedures. • Confirm each component is correctly identified and received. • Verify and validate that each received component meets its requirements and design. • Check the status of the current configuration against the expected configuration. • Check all the physical interfaces or connections before integrating product components. • Communicate results with affected stakeholders. | K22: • Acceptance documents or test criteria for each product component • Exception reports | L22: • Continuous Delivery Practices | M22: • Continuous Delivery & DevOps Pipeline & Reports | T22: x | V22: =IF(ISERROR(MATCH("x",O22:U22)),0,MATCH("x",O22:U22)) -> 6
H23: PI 2.5 | I23: Evaluate integrated components to ensure conformance to the solution’s requirements and design. | J23: • Evaluate integrated components, interfaces or connections, and testing using the integration strategy, procedures, and criteria. • Record and communicate evaluation results. | K23: • Integration evaluation reports • Interface or connection evaluation reports • Test reports • Exception reports | L23: • Continuous Delivery Practices | M23: • Continuous Delivery & DevOps Pipeline & Reports | U23: x | V23: =IF(ISERROR(MATCH("x",O23:U23)),0,MATCH("x",O23:U23)) -> 7
H24: PI 2.6 | I24: Integrate solutions and components according to the integration strategy. | J24: • Confirm readiness of the product integration environment. • Integrate components according to the product integration strategy, procedures, and criteria. • Update the product integration strategy, procedures, and criteria as needed. • Integrate and deliver the product and communicate results. | K24: • Integrated solution or components • Exception or test reports | L24: • Portfolio Enterprise Architecture Practices • Solution Architecture & Solution Intent Practices • ART System Architecture Practices • Continuous Delivery Practices | M24: • Portfolio Enterprise Architecture • Solution Architecture & Solution Intent • ART System Architecture • Continuous Delivery & DevOps Pipeline & Report | T24: x | V24: =IF(ISERROR(MATCH("x",O24:U24)),0,MATCH("x",O24:U24)) -> 6
G25: Level 3 | H25: PI 3.1 | I25: Review and keep updated interface or connection descriptions for coverage, completeness, and consistency throughout the solution’s life. | J25: • Review with affected stakeholders and keep updated interface or connection descriptions for coverage, completeness, and consistency throughout the product’s life. • Resolve interface or connection issues. • Update interface or connection descriptions and make accessible to affected stakeholders. | K25: • Interface or connection review results • List of action items for updating interfaces or connections • Updated interface or connection descriptions | L25: • Portfolio Enterprise Architecture Practices • Solution Architecture & Solution Intent Practices • ART System Architecture Practices • Continuous Delivery Practices | M25: • Portfolio Enterprise Architecture & Backlog (ALM) • Solution Architecture, Solution Intent, & Backlog (ALM) • ART System Architecture & Backlog (ALM) • Continuous Delivery & DevOps Pipeline & Reports | S25: x | V25: =IF(ISERROR(MATCH("x",O25:U25)),0,MATCH("x",O25:U25)) -> 5
H26: PI 3.2 | I26: Confirm, prior to integration, that component interfaces or connections comply with interface or connection descriptions. | J26: • Compare interface or connection descriptions with component interfaces or connections and identify non-compliances. • Address interface or connection non-compliances and communicate results. | K26: • Results of comparison of component interfaces or connections to their descriptions • List of component interface or connection non-compliances • List of action items for updating interface or connection descriptions or component interfaces or connections • Updated interface or connection descriptions or component interfaces or connections | L26: • Portfolio Enterprise Architecture Practices • Solution Architecture & Solution Intent Practices • ART System Architecture Practices • Continuous Delivery Practices | M26: • Portfolio Enterprise Architecture & Backlog (ALM) • Solution Architecture, Solution Intent, & Backlog (ALM) • ART System Architecture & Backlog (ALM) • Continuous Delivery & DevOps Pipeline & Reports | R26: x | V26: =IF(ISERROR(MATCH("x",O26:U26)),0,MATCH("x",O26:U26)) -> 4
H27: PI 3.3 | I27: Evaluate integrated components for interface or connection compatibility. | J27: • Evaluate the integrated components for compatibility. • Record and communicate the evaluation results. | K27: • Interface or connection issues reports | L27: • Continuous Delivery Practices | M27: • Continuous Delivery & DevOps Pipeline & Reports | Q27: x | V27: =IF(ISERROR(MATCH("x",O27:U27)),0,MATCH("x",O27:U27)) -> 3
C28: Development | D28: Technical Solution | E28: TS | F28: Designs and builds solutions that meet requirements. | G28: Level 1 | H28: TS 1.1 | I28: Build a solution to meet requirements. | J28: • Build a solution. | K28: • Product or service | L28: • Portfolio Flow & Enterprise Architecture Practices • Solution Flow, Architecture, & Solution Intent Practices • ART Flow, Design Thinking, Lean UX Practices, & System Architecture Practices | M28: • Portfolio Solutions • Large Solutions • ART Solutions | N28: • SAFe strongly supports technical solutions at multiple levels: 1. Portfolio - Enterprise Architecture 2. Solution - Solution Architecture, Solution Intent 3. ART - System Architecture | P28: x | V28: =IF(ISERROR(MATCH("x",O28:U28)),0,MATCH("x",O28:U28)) -> 2 | W28: =AVERAGE(V28:V37) -> 4.1
G29: Level 2 | H29: TS 2.1 | I29: Design and build a solution to meet requirements. | J29: • Define the architecture. • Identify, develop, or acquire effective design methods or tools for the solution. • Evaluate commercial off-the-shelf (COTS) products. • Develop a preliminary design. • Develop a detailed design. • Track requirements against design to ensure they are satisfied. • Build the solution. | K29: • Architecture • Component design • Completed solution | L29: • Portfolio Flow & Enterprise Architecture Practices • Solution Flow, Architecture, & Solution Intent Practices • ART Flow, Design Thinking, Lean UX Practices, & System Architecture Practices | M29: • Portfolio Enterprise Architecture & Solutions • Large Solution Architecture, Solution Intent, & Solutions • ART System Architecture & Solutions | O29: x | V29: =IF(ISERROR(MATCH("x",O29:U29)),0,MATCH("x",O29:U29)) -> 1
H30: TS 2.2 | I30: Evaluate the design and address identified issues. | J30: • Determine what types of reviews to perform. • Identify review participants. • Send draft designs to reviewers. • Conduct a technical review. • Record decisions, issues, and concerns. • Identify potential fixes. • Communicate issues and decisions to affected stakeholders. • Update the design to address identified issues. • Review the solution. • Revise the component as necessary. | K30: • Design evaluation issues • Design review meeting minutes • Updated design • Updated solution | L30: • Portfolio Flow & Enterprise Architecture Practices • Solution Flow, Architecture, & Solution Intent Practices • ART Flow, Design Thinking, Lean UX Practices, & System Architecture Practices | M30: • Portfolio Enterprise Architecture & Solutions • Large Solution Architecture, Solution Intent, & Solutions • ART System Architecture & Solutions | P30: x | V30: =IF(ISERROR(MATCH("x",O30:U30)),0,MATCH("x",O30:U30)) -> 2
H31: TS 2.3 | I31: Provide guidance on use of the solution. | J31: • Develop and provide guidance materials. | K31: • Guidance material | L31: • Portfolio Flow & Enterprise Architecture Practices • Solution Flow, Architecture, & Solution Intent Practices • ART Flow, Design Thinking, Lean UX Practices, & System Architecture Practices | M31: • Portfolio Enterprise Architecture & Solutions • Large Solution Architecture, Solution Intent, & Solutions • ART System Architecture & Solutions | Q31: x | V31: =IF(ISERROR(MATCH("x",O31:U31)),0,MATCH("x",O31:U31)) -> 3
G32: Level 3 | H32: TS 3.1 | I32: Develop criteria for design decisions. | J32: • Analyze, develop, evaluate, use, and keep updated design criteria. • Review and revise the design criteria with affected stakeholders as needed. | K32: • Design criteria | L32: • Portfolio Flow & Enterprise Architecture Practices • Solution Flow, Architecture, & Solution Intent Practices • ART Flow, Design Thinking, Lean UX Practices, & System Architecture Practices | M32: • Portfolio Enterprise Architecture & Backlogs (ALM) • Large Solution Architecture, Solution Intent, & Backlogs (ALM) • ART System Architecture & Backlogs (ALM) | R32: x | V32: =IF(ISERROR(MATCH("x",O32:U32)),0,MATCH("x",O32:U32)) -> 4
H33: TS 3.2 | I33: Develop alternative solutions for selected components. | J33: • Develop, identify, and record alternative solutions. • Record the requirements allocation for each alternative. • Communicate results. | K33: • Alternative solutions | L33: • Portfolio Flow & Enterprise Architecture Practices • Solution Flow, Architecture, & Solution Intent Practices • ART Flow, Design Thinking, Lean UX Practices, & System Architecture Practices | M33: • Portfolio Enterprise Architecture & Backlogs (ALM) • Large Solution Architecture, Solution Intent, & Backlogs (ALM) • ART System Architecture & Backlogs (ALM) | S33: x | V33: =IF(ISERROR(MATCH("x",O33:U33)),0,MATCH("x",O33:U33)) -> 5
H34: TS 3.3 | I34: Perform a build, buy, or reuse analysis. | J34: • Perform a build, buy, or reuse analysis. • Record analysis and communicate results. | K34: • Build, buy, or reuse analysis | L34: • Portfolio Flow & Enterprise Architecture Practices • Solution Flow, Architecture, & Solution Intent Practices • ART Flow, Design Thinking, Lean UX Practices, & System Architecture Practices | M34: • Portfolio Enterprise Architecture & Backlogs (ALM) • Large Solution Architecture, Solution Intent, & Backlogs (ALM) • ART System Architecture & Backlogs (ALM) | T34: x | V34: =IF(ISERROR(MATCH("x",O34:U34)),0,MATCH("x",O34:U34)) -> 6
H35: TS 3.4 | I35: Select solutions based on design criteria. | J35: • Evaluate each alternative solution against the selection criteria. • Select the solutions that satisfy the established criteria. • Based on evaluation of alternatives, reassess and update selection criteria when necessary. • Develop, use, and keep updated records of solutions, evaluations, and rationale. | K35: • Recorded solutions, evaluations, and rationale | L35: • Portfolio Flow & Enterprise Architecture Practices • Solution Flow, Architecture, & Solution Intent Practices • ART Flow, Design Thinking, Lean UX Practices, & System Architecture Practices | M35: • Portfolio Enterprise Architecture & Backlogs (ALM) • Large Solution Architecture, Solution Intent, & Backlogs (ALM) • ART System Architecture & Backlogs (ALM) | U35: x | V35: =IF(ISERROR(MATCH("x",O35:U35)),0,MATCH("x",O35:U35)) -> 7
H36: TS 3.5 | I36: Develop, keep updated, and use information needed to implement the design. | J36: • Record the information needed to implement the solution. • Revise the information needed to implement the solution, as needed. | K36: • Technical data package • Requirements, design, test, and traceability information | L36: • Portfolio Backlog (ALM) Management • Solution Backlog (ALM) Management • ART Backlog (ALM) Management • Team Backlog (ALM) Management | M36: • Portfolio Backlog (ALM) Reports & Records • Solution Backlog (ALM) Reports & Records • ART Backlog (ALM) Reports & Records • Team Backlog (ALM) Reports & Records | T36: x | V36: =IF(ISERROR(MATCH("x",O36:U36)),0,MATCH("x",O36:U36)) -> 6
H37: TS 3.6 | I37: Design solution interfaces or connections using established criteria. | J37: • Define interface or connection criteria. • Develop interface or connection design alternatives using established criteria. • Identify interfaces or connections, both internal and external. • Identify interfaces or connections between components and related processes. • Identify user interfaces or connections. • Record, keep updated, use, and communicate selected interface or connection criteria, design, and selection rationale. | K37: • Interface or connection specification criteria • Interface or connection design specification • Interface or connection control documents • Rationale for selected interface or connection design | L37: • Portfolio Flow & Enterprise Architecture Practices • Solution Flow, Architecture, & Solution Intent Practices • ART Flow, Design Thinking, Lean UX Practices, & System Architecture Practices | M37: • Portfolio Enterprise Architecture & Backlogs (ALM) • Large Solution Architecture, Solution Intent, & Backlogs (ALM) • ART System Architecture & Backlogs (ALM) | S37: x | V37: =IF(ISERROR(MATCH("x",O37:U37)),0,MATCH("x",O37:U37)) -> 5
B38: Ensuring Quality | C38: Core | D38: Peer Reviews | E38: PR | F38: Identifies and addresses process performance and work product issues through reviews by the producer’s peers or Subject Matter Experts (SMEs). | G38: Level 1 | H38: PR 1.1 | I38: Perform reviews of work products and record issues. | J38: • Review work products to identify issues. • Record results. | K38: • List of issues from work product reviews | L38: • Portfolio Enterprise Architecture, Peer Reviews, Static Analysis, Dynamic Analysis, and MBSE Practices • Solution Architecture, Solution Intent Peer Reviews, Static Analysis, Dynamic Analysis, and MBSE Practices • ART System Architecture, Peer Reviews, Static Analysis, Dynamic Analysis, and MBSE Practices • Continuous Delivery Static & Dynamic Analysis | M38: • Portfolio Enterprise Architecture, Peer Reviews, Static Analysis, Dynamic Analysis, and MBSE (ALM) Records & Reports • Solution Architecture, Solution Intent Peer Reviews, Static Analysis, Dynamic Analysis, and MBSE (ALM) Records & Reports • ART System Architecture, Peer Reviews, Static Analysis, Dynamic Analysis, and MBSE (ALM) Records & Reports • Continuous Delivery Static & Dynamic (ALM) Records & Reports | N38: • SAFe strongly supports peer reviews at multiple levels: 1. Portfolio - Enterprise Architecture 2. Solution - Solution Architecture, Solution Intent 3. ART - System Architecture, Continuous Delivery Pipeline • Manual and automated static and dynamic analysis are build into: 1. MBSE practices, systems, and tools 2. Definition of done at all levels | R38: x | V38: =IF(ISERROR(MATCH("x",O38:U38)),0,MATCH("x",O38:U38)) -> 4 | W38: =AVERAGE($V$38:$V$43) -> 2.5
G39: Level 2 | H39: PR 2.1 | I39: Develop and keep updated procedures and supporting materials used to prepare for and perform peer reviews. | J39: • Record and keep updated peer review procedures. • Record and keep updated related supporting materials. | K39: • Procedures for preparing for and performing peer reviews • Supporting materials | L39: • Portfolio Enterprise Architecture, Peer Reviews, Static Analysis, Dynamic Analysis, and MBSE Practices • Solution Architecture, Solution Intent Peer Reviews, Static Analysis, Dynamic Analysis, and MBSE Practices • ART System Architecture, Peer Reviews, Static Analysis, Dynamic Analysis, and MBSE Practices • Continuous Delivery Static & Dynamic Analysis | M39: • Portfolio Enterprise Architecture, Peer Reviews, Static Analysis, Dynamic Analysis, and MBSE (ALM) Records & Reports • Solution Architecture, Solution Intent Peer Reviews, Static Analysis, Dynamic Analysis, and MBSE (ALM) Records & Reports • ART System Architecture, Peer Reviews, Static Analysis, Dynamic Analysis, and MBSE (ALM) Records & Reports • Continuous Delivery Static & Dynamic (ALM) Records & Reports | Q39: x | V39: =IF(ISERROR(MATCH("x",O39:U39)),0,MATCH("x",O39:U39)) -> 3
H40: PR 2.2 | I40: Select work products to be peer reviewed. | J40: • Evaluate the criticality of the work product. • Determine and record the review type to use. | K40: • Work product or process selection criteria • List of selected work products or processes | L40: • Portfolio Enterprise Architecture, Peer Reviews, Static Analysis, Dynamic Analysis, and MBSE Practices • Solution Architecture, Solution Intent Peer Reviews, Static Analysis, Dynamic Analysis, and MBSE Practices • ART System Architecture, Peer Reviews, Static Analysis, Dynamic Analysis, and MBSE Practices • Continuous Delivery Static & Dynamic Analysis | M40: • Portfolio Enterprise Architecture, Peer Reviews, Static Analysis, Dynamic Analysis, and MBSE (ALM) Records & Reports • Solution Architecture, Solution Intent Peer Reviews, Static Analysis, Dynamic Analysis, and MBSE (ALM) Records & Reports • ART System Architecture, Peer Reviews, Static Analysis, Dynamic Analysis, and MBSE (ALM) Records & Reports • Continuous Delivery Static & Dynamic (ALM) Records & Reports | P40: x | V40: =IF(ISERROR(MATCH("x",O40:U40)),0,MATCH("x",O40:U40)) -> 2
...

Sheet Score
A1: Number | B1: CMMI v3.0 Practice Area | C1: Abbrev | D1: Score | E1: Inv
A2: 1 | B2: =Mapping!D5 -> Service Delivery Management | C2: =Mapping!E5 -> SDM | D2: =Mapping!W5 -> 4.25 | E2: =7-D2 -> 2.75
A3: =A2+1 -> 2 | B3: =Mapping!D13 -> Strategic Service Management | C3: =Mapping!E13 -> STSM | D3: =Mapping!W13 -> 3 | E3: =7-D3 -> 4
A4: =A3+1 -> 3 | B4: =Mapping!D18 -> Product Integration | C4: =Mapping!E18 -> PI | D4: =Mapping!W18 -> 4.5 | E4: =7-D4 -> 2.5
A5: =A4+1 -> 4 | B5: =Mapping!D28 -> Technical Solution | C5: =Mapping!E28 -> TS | D5: =Mapping!W28 -> 4.1 | E5: =7-D5 -> 2.9
A6: =A5+1 -> 5 | B6: =Mapping!D38 -> Peer Reviews | C6: =Mapping!E38 -> PR | D6: =Mapping!W38 -> 2.5 | E6: =7-D6 -> 4.5
A7: =A6+1 -> 6 | B7: =Mapping!D44 -> Process Quality Assurance | C7: =Mapping!E44 -> PQA | D7: =Mapping!W44 -> 5.5 | E7: =7-D7 -> 1.5
A8: =A7+1 -> 7 | B8: =Mapping!D50 -> Requirements Development & Management | C8: =Mapping!E50 -> RDM | D8: =Mapping!W50 -> 4 | E8: =7-D8 -> 3
A9: =A8+1 -> 8 | B9: =Mapping!D63 -> Verification & Validation | C9: =Mapping!E63 -> VV | D9: =Mapping!W63 -> 2.8571429 | E9: =7-D9 -> 4.1428571
A10: =A9+1 -> 9 | B10: =Mapping!D70 -> Supplier Agreement Management | C10: =Mapping!E70 -> SAM | D10: =Mapping!W70 -> 4.25 | E10: =7-D10 -> 2.75
A11: =A10+1 -> 10 | B11: =Mapping!D78 -> Continuity | C11: =Mapping!E78 -> CONT | D11: =Mapping!W78 -> 4.7142857 | E11: =7-D11 -> 2.2857143
A12: =A11+1 -> 11 | B12: =Mapping!D85 -> Incident Resolution & Prevention | C12: =Mapping!E85 -> IRP | D12: =Mapping!W85 -> 2.8333333 | E12: =7-D12 -> 4.1666667
A13: =A12+1 -> 12 | B13: =Mapping!D91 -> Risk & Opportunity Management | C13: =Mapping!E91 -> RSK | D13: =Mapping!W91 -> 5 | E13: =7-D13 -> 2
A14: =A13+1 -> 13 | B14: =Mapping!D99 -> Enabling Virtual Work | C14: =Mapping!E99 -> EVW | D14: =Mapping!W99 -> 2.5 | E14: =7-D14 -> 4.5
A15: =A14+1 -> 14 | B15: =Mapping!D105 -> Organizational Training | C15: =Mapping!E105 -> OT | D15: =Mapping!W105 -> 4.3333333 | E15: =7-D15 -> 2.6666667
A16: =A15+1 -> 15 | B16: =Mapping!D114 -> Workforce Empowerment | C16: =Mapping!E114 -> WE | D16: =Mapping!W114 -> 4.7142857 | E16: =7-D16 -> 2.2857143
A17: =A16+1 -> 16 | B17: =Mapping!D121 -> Estimating | C17: =Mapping!E121 -> EST | D17: =Mapping!W121 -> 2.8333333 | E17: =7-D17 -> 4.1666667
A18: =A17+1 -> 17 | B18: =Mapping!D127 -> Monitor & Control | C18: =Mapping!E127 -> MC | D18: =Mapping!W127 -> 4.5 | E18: =7-D18 -> 2.5
A19: =A18+1 -> 18 | B19: =Mapping!D137 -> Planning | C19: =Mapping!E137 -> PLAN | D19: =Mapping!W137 -> 3.6 | E19: =7-D19 -> 3.4
A20: =A19+1 -> 19 | B20: =Mapping!D152 -> Data Management | C20: =Mapping!E152 -> DM | D20: =Mapping!W152 -> 5.5 | E20: =7-D20 -> 1.5
A21: =A20+1 -> 20 | B21: =Mapping!D158 -> Data Quality | C21: =Mapping!E158 -> DQ | D21: =Mapping!W158 -> 2.7142857 | E21: =7-D21 -> 4.2857143
A22: =A21+1 -> 21 | B22: =Mapping!D165 -> Enabling Safety | C22: =Mapping!E165 -> ESAF | D22: =Mapping!W165 -> 4.75 | E22: =7-D22 -> 2.25
A23: =A22+1 -> 22 | B23: =Mapping!D173 -> Enabling Security | C23: =Mapping!E173 -> ESEC | D23: =Mapping!W173 -> 4.3333333 | E23: =7-D23 -> 2.6666667
A24: =A23+1 -> 23 | B24: =Mapping!D182 -> Managing Security Threats & Vulnerabilities | C24: =Mapping!E182 -> MST | D24: =Mapping!W182 -> 3.7 | E24: =7-D24 -> 3.3
A25: =A24+1 -> 24 | B25: =Mapping!D192 -> Causal Analysis & Resolution | C25: =Mapping!E192 -> CAR | D25: =Mapping!W192 -> 3.7272727 | E25: =7-D25 -> 3.2727273
A26: =A25+1 -> 25 | B26: =Mapping!D203 -> Configuration Management | C26: =Mapping!E203 -> CM | D26: =Mapping!W203 -> 4 | E26: =7-D26 -> 3
A27: =A26+1 -> 26 | B27: =Mapping!D210 -> Decision Analysis & Resolution | C27: =Mapping!E210 -> DAR | D27: =Mapping!W210 -> 4.75 | E27: =7-D27 -> 2.25
A28: =A27+1 -> 27 | B28: =Mapping!D218 -> Managing Performance & Measurement | C28: =Mapping!E218 -> MPM | D28: =Mapping!W218 -> 3.8636364 | E28: =7-D28 -> 3.1363636
A29: =A28+1 -> 28 | B29: =Mapping!D240 -> Process Asset Development | C29: =Mapping!E240 -> PAD | D29: =Mapping!W240 -> 3.5 | E29: =7-D29 -> 3.5
A30: =A29+1 -> 29 | B30: =Mapping!D250 -> Process Management | C30: =Mapping!E250 -> PCM | D30: =Mapping!W250 -> 4 | E30: =7-D30 -> 3
A31: =A30+1 -> 30 | B31: =Mapping!D262 -> Governance | C31: =Mapping!E262 -> GOV | D31: =Mapping!W262 -> 4.25 | E31: =7-D31 -> 2.75
A32: =A31+1 -> 31 | B32: =Mapping!D270 -> Implementation Infrastructure | C32: =Mapping!E270 -> II | D32: =Mapping!W270 -> 4.7142857 | E32: =7-D32 -> 2.2857143
